BEGIN:VCALENDAR
VERSION:2.0
METHOD:PUBLISH
BEGIN:VEVENT
DTSTAMP:20260420T195014Z
DTSTART:20241029T160000Z
DTEND:20241029T163000Z
SUMMARY:TODDLER TIME
LOCATION:McKellar Public Library
END:VEVENT
END:VCALENDAR
