BEGIN:VCALENDAR
VERSION:2.0
METHOD:PUBLISH
BEGIN:VEVENT
DTSTAMP:20260422T101828Z
DTSTART:20260413T143000Z
DTEND:20260413T160000Z
SUMMARY:Senior's Walk Fit
LOCATION:Community Hall
END:VEVENT
END:VCALENDAR
