BEGIN:VCALENDAR
VERSION:2.0
METHOD:PUBLISH
BEGIN:VEVENT
DTSTAMP:20260421T235705Z
DTSTART:20260414T170000Z
DTEND:20260414T190000Z
SUMMARY:Canasta 
LOCATION:Multi-Purpose Room 
END:VEVENT
END:VCALENDAR
