BEGIN:VCALENDAR
VERSION:2.0
METHOD:PUBLISH
BEGIN:VEVENT
DTSTAMP:20260422T014750Z
DTSTART:20260512T170000Z
DTEND:20260512T190000Z
SUMMARY:Canasta 
LOCATION:Multi-Purpose Room 
END:VEVENT
END:VCALENDAR
