BEGIN:VCALENDAR
VERSION:2.0
METHOD:PUBLISH
BEGIN:VEVENT
DTSTAMP:20260425T181631Z
DTSTART:20260512T220000Z
DTEND:20260513T010000Z
SUMMARY:McCrafters
LOCATION:Multi-Purpose Room 
END:VEVENT
END:VCALENDAR
