BEGIN:VCALENDAR
VERSION:2.0
METHOD:PUBLISH
BEGIN:VEVENT
DTSTAMP:20260422T122411Z
DTSTART:20260602T223000Z
DTEND:20260602T223000Z
SUMMARY:Regular Meeting of Council
LOCATION:Council Chambers
END:VEVENT
END:VCALENDAR
