BEGIN:VCALENDAR
VERSION:2.0
METHOD:PUBLISH
BEGIN:VEVENT
DTSTAMP:20260425T181616Z
DTSTART:20260609T220000Z
DTEND:20260610T010000Z
SUMMARY:McCrafters
LOCATION:Multi-Purpose Room 
END:VEVENT
END:VCALENDAR
