BEGIN:VCALENDAR
VERSION:2.0
METHOD:PUBLISH
BEGIN:VEVENT
DTSTAMP:20260422T015209Z
DTSTART:20260811T170000Z
DTEND:20260811T190000Z
SUMMARY:Canasta 
LOCATION:Multi-Purpose Room 
END:VEVENT
END:VCALENDAR
