BEGIN:VCALENDAR
VERSION:2.0
METHOD:PUBLISH
BEGIN:VEVENT
DTSTAMP:20260422T140328Z
DTSTART:20261006T223000Z
DTEND:20261006T223000Z
SUMMARY:Regular Meeting of Council
LOCATION:Council Chambers
END:VEVENT
END:VCALENDAR
