BEGIN:VCALENDAR
VERSION:2.0
METHOD:PUBLISH
BEGIN:VEVENT
DTSTAMP:20260422T032856Z
DTSTART:20261013T170000Z
DTEND:20261013T190000Z
SUMMARY:Canasta 
LOCATION:Multi-Purpose Room 
END:VEVENT
END:VCALENDAR
