BEGIN:VCALENDAR
VERSION:2.0
METHOD:PUBLISH
BEGIN:VEVENT
DTSTAMP:20260425T181259Z
DTSTART:20261013T220000Z
DTEND:20261014T010000Z
SUMMARY:McCrafters
LOCATION:Multi-Purpose Room 
END:VEVENT
END:VCALENDAR
