BEGIN:VCALENDAR
VERSION:2.0
METHOD:PUBLISH
BEGIN:VEVENT
DTSTAMP:20260422T141453Z
DTSTART:20261103T233000Z
DTEND:20261103T233000Z
SUMMARY:Regular Meeting of Council
LOCATION:Council Chambers
END:VEVENT
END:VCALENDAR
