BEGIN:VCALENDAR
VERSION:2.0
METHOD:PUBLISH
BEGIN:VEVENT
DTSTAMP:20260425T194458Z
DTSTART:20261110T230000Z
DTEND:20261111T020000Z
SUMMARY:McCrafters
LOCATION:Multi-Purpose Room 
END:VEVENT
END:VCALENDAR
