BEGIN:VCALENDAR
VERSION:2.0
METHOD:PUBLISH
BEGIN:VEVENT
DTSTAMP:20260420T192026Z
DTSTART:20261117T233000Z
DTEND:20261117T233000Z
SUMMARY:Regular Meeting of Council
LOCATION:Council Chambers
END:VEVENT
END:VCALENDAR
