BEGIN:VCALENDAR
VERSION:2.0
METHOD:PUBLISH
BEGIN:VEVENT
DTSTAMP:20260422T032649Z
DTSTART:20261208T180000Z
DTEND:20261208T200000Z
SUMMARY:Canasta 
LOCATION:Multi-Purpose Room 
END:VEVENT
END:VCALENDAR
