BEGIN:VCALENDAR
VERSION:2.0
METHOD:PUBLISH
BEGIN:VEVENT
DTSTAMP:20260425T211935Z
DTSTART:20261208T230000Z
DTEND:20261209T020000Z
SUMMARY:McCrafters
LOCATION:Multi-Purpose Room 
END:VEVENT
END:VCALENDAR
